BEGIN:VCALENDAR
VERSION:2.0
PRODID:-//Plone.org//NONSGML plone.app.event//EN
X-WR-TIMEZONE:Europe/Berlin
BEGIN:VEVENT
SUMMARY:Tango-Milonga mit ELEONORA FERREYRA und Arnaldo Leconte.
DTSTART;TZID=Europe/Berlin;VALUE=DATE-TIME:20250527T193000
DTEND;TZID=Europe/Berlin;VALUE=DATE-TIME:20250527T213000
DTSTAMP;VALUE=DATE-TIME:20260423T085410Z
UID:c85656b36d1b4cd1b4f7b110ff910eba@cellex_plone
CONTACT:María Kordt\, +49 351 4466 45093\, m.kordt@cellex-stiftung.org
CREATED;VALUE=DATE-TIME:20250522T081940Z
LAST-MODIFIED;VALUE=DATE-TIME:20250522T083755Z
LOCATION:Scheune Vorplatz\, 01099 Dresden
URL:https://www.cellex-stiftung.org/de/events/tango-milonga-mit-eleonora-f
 erreyra-und-arnaldo-leconte
END:VEVENT
BEGIN:VTIMEZONE
TZID:Europe/Berlin
X-LIC-LOCATION:Europe/Berlin
BEGIN:DAYLIGHT
DTSTART;VALUE=DATE-TIME:20250330T030000
TZNAME:CEST
TZOFFSETFROM:+0100
TZOFFSETTO:+0200
END:DAYLIGHT
END:VTIMEZONE
END:VCALENDAR
