BEGIN:VCALENDAR
VERSION:2.0
PRODID:-//Plone.org//NONSGML plone.app.event//EN
X-WR-TIMEZONE:Europe/Berlin
BEGIN:VEVENT
SUMMARY:ABGESAGT: Tango im KIEZ
DTSTART;TZID=Europe/Berlin;VALUE=DATE-TIME:20200520T180000
DTEND;TZID=Europe/Berlin;VALUE=DATE-TIME:20200520T190000
DTSTAMP;VALUE=DATE-TIME:20260424T000357Z
UID:31767b5a1e3648cc85645b3bc3cc6017@cellex_plone
CONTACT:Cristian Javier Castaño\, +49 351 4466 450 93\, c.castano@cellex-
 stiftung.org
CREATED;VALUE=DATE-TIME:20180405T090655Z
DESCRIPTION:Cristian Javier Castaño bietet gemeinsam mit seiner Company T
 ango - offen und bunt regelmäßig Tango-Kurse im KIEZ an.
LAST-MODIFIED;VALUE=DATE-TIME:20210603T064241Z
LOCATION:KIEZ\, Einkaufszentrum Prohlis\, Prohliser Allee 10\, 01239 Dresd
 en
URL:https://www.cellex-stiftung.org/de/projekte/tango/tango-kurstermine/co
 py_of_tango-im-kiez/2020-05-20
END:VEVENT
BEGIN:VTIMEZONE
TZID:Europe/Berlin
X-LIC-LOCATION:Europe/Berlin
BEGIN:DAYLIGHT
DTSTART;VALUE=DATE-TIME:20200329T030000
TZNAME:CEST
TZOFFSETFROM:+0100
TZOFFSETTO:+0200
END:DAYLIGHT
END:VTIMEZONE
END:VCALENDAR
