BEGIN:VCALENDAR
VERSION:2.0
PRODID:-//Plone.org//NONSGML plone.app.event//EN
X-WR-TIMEZONE:Europe/Berlin
BEGIN:VEVENT
SUMMARY:Offener Tangokurs & Milonga – jeden Dienstag
DTSTART;TZID=Europe/Berlin;VALUE=DATE-TIME:20250729T190000
DTSTAMP;VALUE=DATE-TIME:20260423T190348Z
UID:bd412b9f12aa411fb378d4a1134cc5d5@cellex_plone
CONTACT:María Kordt\, 0351446645093\, m.kordt@cellex-stiftung.org
CREATED;VALUE=DATE-TIME:20250703T165600Z
DESCRIPTION:Tango erleben\, Gemeinschaft spüren – dienstags in Dresden\
 , für jede*n.
LAST-MODIFIED;VALUE=DATE-TIME:20250820T123226Z
LOCATION:Scheunevorplatz (Alaunstraße 36–40\, 01099 Dresden)
URL:https://www.cellex-stiftung.org/de/projekte/tango/tango-kurstermine/of
 fener-tangokurs-milonga-jeden-dienstag/2025-07-29
END:VEVENT
BEGIN:VTIMEZONE
TZID:Europe/Berlin
X-LIC-LOCATION:Europe/Berlin
BEGIN:DAYLIGHT
DTSTART;VALUE=DATE-TIME:20250330T030000
TZNAME:CEST
TZOFFSETFROM:+0100
TZOFFSETTO:+0200
END:DAYLIGHT
END:VTIMEZONE
END:VCALENDAR
