BEGIN:VCALENDAR
VERSION:2.0
PRODID:-//Plone.org//NONSGML plone.app.event//EN
X-WR-TIMEZONE:Europe/Berlin
BEGIN:VEVENT
SUMMARY:Tango-Kurs für Fortgeschrittene
DTSTART;TZID=Europe/Berlin;VALUE=DATE-TIME:20180403T190000
DTEND;TZID=Europe/Berlin;VALUE=DATE-TIME:20180403T200000
DTSTAMP;VALUE=DATE-TIME:20260422T073000Z
UID:16a93de25b234cd89b9bd7e5cff9c291@cellex_plone
RRULE:FREQ=WEEKLY;UNTIL=20180612T000000;BYDAY=TU
EXDATE;TZID=Europe/Berlin:20180501T000000
CONTACT:Cristian Javier Castaño\, +49 351 4466 450 93\, c.castano@cellex-
 stiftung.org
CREATED;VALUE=DATE-TIME:20180403T130701Z
DESCRIPTION:Cristian Javier Castaño bietet gemeinsam mit seiner Company T
 ango - offen und bunt regelmäßig einen Tango-Kurs für Fortgeschrittene 
 an.
LAST-MODIFIED;VALUE=DATE-TIME:20210603T064239Z
LOCATION:Club Eule\, Marschnerstraße 33
URL:https://www.cellex-stiftung.org/de/projekte/tango/tango-kurstermine/ta
 ngo-fuer-fortgeschrittene
END:VEVENT
BEGIN:VTIMEZONE
TZID:Europe/Berlin
X-LIC-LOCATION:Europe/Berlin
BEGIN:DAYLIGHT
DTSTART;VALUE=DATE-TIME:20180325T030000
TZNAME:CEST
TZOFFSETFROM:+0100
TZOFFSETTO:+0200
END:DAYLIGHT
END:VTIMEZONE
END:VCALENDAR
